BEGIN:VCALENDAR
VERSION:2.0
METHOD:PUBLISH
BEGIN:VEVENT
DTSTAMP:20260423T231007Z
DTSTART:20260611T135000Z
DTEND:20260611T135000Z
SUMMARY:Tai Chi and Qigong
LOCATION:177 West St., Smithville
END:VEVENT
END:VCALENDAR
