BEGIN:VCALENDAR
VERSION:2.0
METHOD:PUBLISH
BEGIN:VEVENT
DTSTAMP:20260423T195217Z
DTSTART:20260611T231500Z
DTEND:20260611T231500Z
SUMMARY:Strengthen and Stretch - Yogalates with Kara
LOCATION:177 West St., Smithville
END:VEVENT
END:VCALENDAR
