BEGIN:VCALENDAR
VERSION:2.0
METHOD:PUBLISH
BEGIN:VEVENT
DTSTAMP:20260424T002109Z
DTSTART:20260612T140000Z
DTEND:20260612T160000Z
SUMMARY:Beginner Pickleball 18+
LOCATION:177 West St., Smithville
END:VEVENT
END:VCALENDAR
