BEGIN:VCALENDAR
VERSION:2.0
METHOD:PUBLISH
BEGIN:VEVENT
DTSTAMP:20260423T211323Z
DTSTART:20260617T190000Z
DTEND:20260617T210000Z
SUMMARY:Beginner Pickleball 18+
LOCATION:177 West St., Smithville
END:VEVENT
END:VCALENDAR
