BEGIN:VCALENDAR
VERSION:2.0
METHOD:PUBLISH
BEGIN:VEVENT
DTSTAMP:20260423T182824Z
DTSTART:20260618T220000Z
DTEND:20260618T220000Z
SUMMARY:Evening Gentle Hatha Yoga with Kara
LOCATION:177 West St., Smithville
END:VEVENT
END:VCALENDAR
