BEGIN:VCALENDAR
VERSION:2.0
METHOD:PUBLISH
BEGIN:VEVENT
DTSTAMP:20260423T214107Z
DTSTART:20260625T203000Z
DTEND:20260625T220000Z
SUMMARY:Youth Open Gym (ages 9-12)
LOCATION:177 West St., Smithville
END:VEVENT
END:VCALENDAR
