BEGIN:VCALENDAR
VERSION:2.0
METHOD:PUBLISH
BEGIN:VEVENT
DTSTAMP:20260423T201213Z
DTSTART:20260626T140000Z
DTEND:20260626T160000Z
SUMMARY:Older Adult Social 55+ (free)
LOCATION:177 West St., Smithville
END:VEVENT
END:VCALENDAR
