BEGIN:VCALENDAR
VERSION:2.0
METHOD:PUBLISH
BEGIN:VEVENT
DTSTAMP:20260422T121050Z
DTSTART:20260420T223000Z
DTEND:20260420T233000Z
SUMMARY:CANCELLED - Corporate Services Committee
END:VEVENT
END:VCALENDAR
