BEGIN:VCALENDAR
VERSION:2.0
METHOD:PUBLISH
BEGIN:VEVENT
DTSTAMP:20260422T091340Z
DTSTART:20260420T233000Z
DTEND:20260421T003000Z
SUMMARY:CANCELLED - Community and Protective Services Committee
END:VEVENT
END:VCALENDAR
