BEGIN:VCALENDAR
VERSION:2.0
METHOD:PUBLISH
BEGIN:VEVENT
DTSTAMP:20260422T121545Z
DTSTART:20260622T223000Z
DTEND:20260622T233000Z
SUMMARY:Corporate Services Committee
END:VEVENT
END:VCALENDAR
