BEGIN:VCALENDAR
VERSION:2.0
METHOD:PUBLISH
BEGIN:VEVENT
DTSTAMP:20260422T121351Z
DTSTART:20260622T233000Z
DTEND:20260623T003000Z
SUMMARY:Community and Protective Services Committee
END:VEVENT
END:VCALENDAR
