BEGIN:VCALENDAR
VERSION:2.0
METHOD:PUBLISH
BEGIN:VEVENT
DTSTAMP:20260422T133410Z
DTSTART:20260713T223000Z
DTEND:20260713T233000Z
SUMMARY:Council (includes All Committees)
END:VEVENT
END:VCALENDAR
