BEGIN:VCALENDAR
VERSION:2.0
METHOD:PUBLISH
BEGIN:VEVENT
DTSTAMP:20260422T121231Z
DTSTART:20260914T223000Z
DTEND:20260914T233000Z
SUMMARY:Growth and Sustainability Committee
END:VEVENT
END:VCALENDAR
